BEGIN:VCALENDAR
VERSION:2.0
PRODID:-//Plone.org//NONSGML plone.app.event//EN
X-WR-TIMEZONE:Europe/Rome
BEGIN:VEVENT
SUMMARY:15th International RBD Study Group meeting
DTSTART;VALUE=DATE:20220317
DTEND;VALUE=DATE:20220318
DTSTAMP;VALUE=DATE-TIME:20260422T223453Z
UID:9fbf02ed36884f9b81fb1698d66e30d6@127.0.0.1:8095
CONTACT:congressi@avenuemedia.eu\, https://www.avenuemedia.eu/event/europe
 an-rbd-conference-16-19-marzo-2022/
CREATED;VALUE=DATE-TIME:20220314T090812Z
DESCRIPTION:In presenza
LAST-MODIFIED;VALUE=DATE-TIME:20221129T151627Z
LOCATION:Ravenna\, Italia
URL:https://www.ausl.bologna.it/istituto-delle-scienze-neurologiche/appunt
 amenti-dellistituto/archivio/eventi-passati/15th-international-rbd-study-g
 roup-meeting
END:VEVENT
END:VCALENDAR
