BEGIN:VCALENDAR
VERSION:2.0
PRODID:-//Plone.org//NONSGML plone.app.event//EN
X-WR-TIMEZONE:Europe/Rome
BEGIN:VEVENT
SUMMARY:12° Convegno sulle Malattie Mitocondriali 2022
DTSTART;VALUE=DATE:20221007
DTEND;VALUE=DATE:20221008
DTSTAMP;VALUE=DATE-TIME:20260422T205743Z
UID:62574468e24a4639ad1fe29369daf0e0@127.0.0.1:8095
CONTACT:https://www.mitocon.it/convegno-nazionale-sulle-malattie-mitocondr
 iali/
CREATED;VALUE=DATE-TIME:20220801T155522Z
LAST-MODIFIED;VALUE=DATE-TIME:20221129T151622Z
LOCATION:in presenza e online
URL:https://www.ausl.bologna.it/istituto-delle-scienze-neurologiche/appunt
 amenti-dellistituto/archivio/eventi-passati/12deg-convegno-sulle-malattie-
 mitocondriali-2022
END:VEVENT
END:VCALENDAR
