BEGIN:VCALENDAR
VERSION:2.0
PRODID:-//Plone.org//NONSGML plone.app.event//EN
X-WR-TIMEZONE:Europe/Rome
BEGIN:VEVENT
SUMMARY:Etica della ricerca clinica
DTSTART;TZID=Europe/Rome;VALUE=DATE-TIME:20240322T090000
DTEND;TZID=Europe/Rome;VALUE=DATE-TIME:20240322T173000
DTSTAMP;VALUE=DATE-TIME:20260422T191618Z
UID:0486879e68354e8096044c08ec4f5e3e@127.0.0.1:8095
CATEGORIES:Istituto Scienze Neurologiche
CONTACT:FormazioneRicSan@regione.emilia-romagna.it
CREATED;VALUE=DATE-TIME:20240223T101352Z
DESCRIPTION:Seminario - Aula Magna\, viale Aldo Moro 30\, Regione Emilia-R
 omagna\, Bologna
LAST-MODIFIED;VALUE=DATE-TIME:20240223T110537Z
LOCATION:Aula magna\, viale Aldo Moro 30\, Regione Emilia-Romagna\, Bologn
 a
URL:https://www.ausl.bologna.it/istituto-delle-scienze-neurologiche/appunt
 amenti-dellistituto/archivio/etica-della-ricerca-clinica
END:VEVENT
BEGIN:VTIMEZONE
TZID:Europe/Rome
X-LIC-LOCATION:Europe/Rome
BEGIN:STANDARD
DTSTART;VALUE=DATE-TIME:20231029T020000
TZNAME:CET
TZOFFSETFROM:+0200
TZOFFSETTO:+0100
END:STANDARD
END:VTIMEZONE
END:VCALENDAR
