BEGIN:VCALENDAR
VERSION:2.0
PRODID:-//Plone.org//NONSGML plone.app.event//EN
X-WR-TIMEZONE:Europe/Rome
BEGIN:VEVENT
SUMMARY:Ecografia polmonare Bedside
DTSTART;TZID=Europe/Rome;VALUE=DATE-TIME:20241023T120000
DTEND;TZID=Europe/Rome;VALUE=DATE-TIME:20241023T180000
DTSTAMP;VALUE=DATE-TIME:20260422T191648Z
UID:4cf447259996400faa23f920f0380691@127.0.0.1:8095
ATTENDEE;CN="Dott. Raffaele Aspide, Dott. Ernesto Migliorino, Dott. Stefan
 o Pretolani, Dott, Daniele Guerino Biasucci";ROLE=REQ-PARTICIPANT:Dott. Ra
 ffaele Aspide, Dott. Ernesto Migliorino, Dott. Stefano Pretolani, Dott, Da
 niele Guerino Biasucci
CATEGORIES:Istituto Scienze Neurologiche
CONTACT:https://forms.office.com/Pages/ResponsePage.aspx?id=M1gYCTrjd02FQZ
 FkrTWPFGUOMl32SUBDnHXc24F2_flUOE9EWTVWRjhBTjVPQVVSRE5SRDZTTkFGWS4u
CREATED;VALUE=DATE-TIME:20241010T124524Z
DESCRIPTION:Corso - Padiglione F II piano Rianimazione\, via Altura 3\, Os
 pedale Bellaria\, Bologna
LAST-MODIFIED;VALUE=DATE-TIME:20260316T143845Z
LOCATION:Padiglione F II piano Rianimazione\, via Altura 3\, Ospedale Bell
 aria\, Bologna
URL:https://www.ausl.bologna.it/istituto-delle-scienze-neurologiche/appunt
 amenti-dellistituto/archivio/ecografia-polmonare-bedside
END:VEVENT
BEGIN:VTIMEZONE
TZID:Europe/Rome
X-LIC-LOCATION:Europe/Rome
BEGIN:DAYLIGHT
DTSTART;VALUE=DATE-TIME:20240331T030000
TZNAME:CEST
TZOFFSETFROM:+0100
TZOFFSETTO:+0200
END:DAYLIGHT
END:VTIMEZONE
END:VCALENDAR
