BEGIN:VCALENDAR
VERSION:2.0
PRODID:-//Plone.org//NONSGML plone.app.event//EN
X-WR-TIMEZONE:Europe/Rome
BEGIN:VEVENT
SUMMARY:Donazione DBD & DCD: Dead Patient Rule or Dead Donor Rule?
DTSTART;TZID=Europe/Rome;VALUE=DATE-TIME:20241028T143000
DTEND;TZID=Europe/Rome;VALUE=DATE-TIME:20241028T160000
DTSTAMP;VALUE=DATE-TIME:20260422T191657Z
UID:efd5812498ee4658bdd0c083442e9627@127.0.0.1:8095
ATTENDEE;CN="Dottor Francesco Procaccio, Specialista in Terapia Intensiva 
 e Neuro-fisiopatologia";ROLE=REQ-PARTICIPANT:Dottor Francesco Procaccio, S
 pecialista in Terapia Intensiva e Neuro-fisiopatologia
CATEGORIES:Istituto Scienze Neurologiche
CREATED;VALUE=DATE-TIME:20241001T093502Z
DESCRIPTION:Seminario - Aula Magna\, Padiglione Tinozzi\, Ospedale Bellari
 a\, Via Altura 3\, Bologna
LAST-MODIFIED;VALUE=DATE-TIME:20260316T143847Z
LOCATION:Convegno - Aula Magna\, Padiglione Tinozzi\, Ospedale Bellaria\, 
 Via Altura 3\, Bologna
URL:https://www.ausl.bologna.it/istituto-delle-scienze-neurologiche/appunt
 amenti-dellistituto/archivio/donazione-dbd-dcd-dead-patient-rule-or-dead-d
 onor-rule-francesco-procaccio
END:VEVENT
BEGIN:VTIMEZONE
TZID:Europe/Rome
X-LIC-LOCATION:Europe/Rome
BEGIN:STANDARD
DTSTART;VALUE=DATE-TIME:20241027T020000
TZNAME:CET
TZOFFSETFROM:+0200
TZOFFSETTO:+0100
END:STANDARD
END:VTIMEZONE
END:VCALENDAR
