BEGIN:VCALENDAR
VERSION:2.0
PRODID:-//Plone.org//NONSGML plone.app.event//EN
X-WR-TIMEZONE:Europe/Rome
BEGIN:VEVENT
SUMMARY:Disturbi ipercinetici in età pediatrica su base genetica
DTSTART;TZID=Europe/Rome;VALUE=DATE-TIME:20240527T143000
DTSTAMP;VALUE=DATE-TIME:20260422T191808Z
UID:46da570feb184508b02a1d92d042ce4b@127.0.0.1:8095
ATTENDEE;CN="Dott.Carlo Fusco (IRCCS Reggio-Emilia)";ROLE=REQ-PARTICIPANT
 :Dott.Carlo Fusco (IRCCS Reggio-Emilia)
CATEGORIES:Istituto Scienze Neurologiche
CONTACT:Prof.ssa Caterina Garone\, caterina.garone@unibo.it
CREATED;VALUE=DATE-TIME:20240517T105302Z
DESCRIPTION:Seminario - IRCCS S.Orsola di Bologna il 24 maggio 2024 alle o
 re 14.30
LAST-MODIFIED;VALUE=DATE-TIME:20260316T143229Z
LOCATION:Aula Barbara (Padiglione 5) dell'IRCCS S.Orsola di Bologna
URL:https://www.ausl.bologna.it/istituto-delle-scienze-neurologiche/appunt
 amenti-dellistituto/archivio/disturbi-ipercinetici-in-eta-pediatrica-su-ba
 se-genetica-2024
END:VEVENT
BEGIN:VTIMEZONE
TZID:Europe/Rome
X-LIC-LOCATION:Europe/Rome
BEGIN:DAYLIGHT
DTSTART;VALUE=DATE-TIME:20240331T030000
TZNAME:CEST
TZOFFSETFROM:+0100
TZOFFSETTO:+0200
END:DAYLIGHT
END:VTIMEZONE
END:VCALENDAR
