BEGIN:VCALENDAR
VERSION:2.0
PRODID:-//Plone.org//NONSGML plone.app.event//EN
X-WR-TIMEZONE:Europe/Rome
BEGIN:VEVENT
SUMMARY:Disturbi della nutrizione e dell'alimentazione in età evolutiva
DTSTART;TZID=Europe/Rome;VALUE=DATE-TIME:20231010T140000
DTEND;TZID=Europe/Rome;VALUE=DATE-TIME:20231010T160000
DTSTAMP;VALUE=DATE-TIME:20260422T191655Z
UID:d98ccad35fa64545a5e04b6886505685@127.0.0.1:8095
CATEGORIES:Istituto Scienze Neurologiche
CREATED;VALUE=DATE-TIME:20230927T084355Z
DESCRIPTION:Seminario IRCCS
LAST-MODIFIED;VALUE=DATE-TIME:20231005T122725Z
LOCATION:Ospedale Bellaria\, padiglione G (primo piano)\, aula Lugaresi
URL:https://www.ausl.bologna.it/istituto-delle-scienze-neurologiche/appunt
 amenti-dellistituto/archivio/disturbi-della-nutrizione-e-dellalimentazione
 -in-eta-evolutiva
END:VEVENT
BEGIN:VTIMEZONE
TZID:Europe/Rome
X-LIC-LOCATION:Europe/Rome
BEGIN:DAYLIGHT
DTSTART;VALUE=DATE-TIME:20230326T030000
TZNAME:CEST
TZOFFSETFROM:+0100
TZOFFSETTO:+0200
END:DAYLIGHT
END:VTIMEZONE
END:VCALENDAR
