BEGIN:VCALENDAR
VERSION:2.0
PRODID:-//Plone.org//NONSGML plone.app.event//EN
X-WR-TIMEZONE:Europe/Rome
BEGIN:VEVENT
SUMMARY:Decoding early onset epilepsy and targeted disease management
DTSTART;TZID=Europe/Rome;VALUE=DATE-TIME:20240524T140000
DTSTAMP;VALUE=DATE-TIME:20260422T191533Z
UID:1dcc6c353750461bb65a568ef7b20102@127.0.0.1:8095
ATTENDEE;CN="Prof. Pasquale Striano (Università di Genova)";ROLE=REQ-PAR
 TICIPANT:Prof. Pasquale Striano (Università di Genova)
CATEGORIES:Istituto Scienze Neurologiche
CONTACT:Prof.ssa Caterina Garone\, caterina.garone@unibo.it
CREATED;VALUE=DATE-TIME:20240517T104426Z
DESCRIPTION:Seminario - IRCCS S.Orsola di Bologna il 24 maggio 2024 alle o
 re 14.00
LAST-MODIFIED;VALUE=DATE-TIME:20260316T143229Z
LOCATION:IRCCS S.Orsola di Bologna
URL:https://www.ausl.bologna.it/istituto-delle-scienze-neurologiche/appunt
 amenti-dellistituto/archivio/decoding-early-onset-epilepsy-and-targeted-di
 sease-management-2024
END:VEVENT
BEGIN:VTIMEZONE
TZID:Europe/Rome
X-LIC-LOCATION:Europe/Rome
BEGIN:DAYLIGHT
DTSTART;VALUE=DATE-TIME:20240331T030000
TZNAME:CEST
TZOFFSETFROM:+0100
TZOFFSETTO:+0200
END:DAYLIGHT
END:VTIMEZONE
END:VCALENDAR
