BEGIN:VCALENDAR
VERSION:2.0
PRODID:-//Plone.org//NONSGML plone.app.event//EN
X-WR-TIMEZONE:Europe/Rome
BEGIN:VEVENT
SUMMARY:Dal lieve al grave: scenari clinici nella patologia cerebrovascola
 re acuta
DTSTART;TZID=Europe/Rome;VALUE=DATE-TIME:20241025T084500
DTEND;TZID=Europe/Rome;VALUE=DATE-TIME:20241025T173000
DTSTAMP;VALUE=DATE-TIME:20260422T191818Z
UID:b205324f3f2e4ef3988e6514d7586f8e@127.0.0.1:8095
ATTENDEE;CN="Dottoressa Maria Guarino, Dottor Andrea Zini";ROLE=REQ-PARTIC
 IPANT:Dottoressa Maria Guarino, Dottor Andrea Zini
CATEGORIES:Istituto Scienze Neurologiche
CONTACT:MCC srl\, https://www.mccstudio.org
CREATED;VALUE=DATE-TIME:20241010T123139Z
DESCRIPTION:Workshop - Sala Cesare Cesari\, Casa dei Donatori di Sangue\, 
 Bologna
LAST-MODIFIED;VALUE=DATE-TIME:20260316T143844Z
LOCATION:Sala Cesare Cesari\, Casa dei Donatori di Sangue\, Bologna
URL:https://www.ausl.bologna.it/istituto-delle-scienze-neurologiche/appunt
 amenti-dellistituto/archivio/dal-lieve-al-grave-scenari-clinici-nella-pato
 logia-cerebrovascolare-acuta
END:VEVENT
BEGIN:VTIMEZONE
TZID:Europe/Rome
X-LIC-LOCATION:Europe/Rome
BEGIN:DAYLIGHT
DTSTART;VALUE=DATE-TIME:20240331T030000
TZNAME:CEST
TZOFFSETFROM:+0100
TZOFFSETTO:+0200
END:DAYLIGHT
END:VTIMEZONE
END:VCALENDAR
