BEGIN:VCALENDAR
VERSION:2.0
PRODID:-//Plone.org//NONSGML plone.app.event//EN
X-WR-TIMEZONE:Europe/Rome
BEGIN:VEVENT
SUMMARY:Convegno AINR di Neuroradiologia Interventistica
DTSTART;TZID=Europe/Rome;VALUE=DATE-TIME:20240324T134500
DTEND;TZID=Europe/Rome;VALUE=DATE-TIME:20240326T130000
DTSTAMP;VALUE=DATE-TIME:20260422T191630Z
UID:386b6cdf9a0d4e6a96f6a85dc7891485@127.0.0.1:8095
ATTENDEE;CN="Luigi Simonetti";ROLE=REQ-PARTICIPANT:Luigi Simonetti
ATTENDEE;CN="UO Neuroradiologia OM (SSI)";ROLE=REQ-PARTICIPANT:UO Neurorad
 iologia OM (SSI)
ATTENDEE;CN="Area Urgenza dell'IRCCS ISN di Bologna";ROLE=REQ-PARTICIPANT:
 Area Urgenza dell'IRCCS ISN di Bologna
CATEGORIES:Istituto Scienze Neurologiche
CONTACT:Segreteria Organizzativa\, info@morecomunicazione.it\, https://ain
 r-interventistica.it/
CREATED;VALUE=DATE-TIME:20240320T084138Z
DESCRIPTION:Convegno - Starhotels Excelsior\, viale Pietro Pietramelara 52
 \, Bologna
LAST-MODIFIED;VALUE=DATE-TIME:20240320T090705Z
LOCATION:Starhotels Excelsior\, viale Pietro Pietramelara 52\, Bologna
URL:https://www.ausl.bologna.it/istituto-delle-scienze-neurologiche/appunt
 amenti-dellistituto/archivio/convegno-2024-ainr-neuroradiologia-interventi
 stica
END:VEVENT
BEGIN:VTIMEZONE
TZID:Europe/Rome
X-LIC-LOCATION:Europe/Rome
BEGIN:STANDARD
DTSTART;VALUE=DATE-TIME:20231029T020000
TZNAME:CET
TZOFFSETFROM:+0200
TZOFFSETTO:+0100
END:STANDARD
END:VTIMEZONE
END:VCALENDAR
