BEGIN:VCALENDAR
VERSION:2.0
PRODID:-//Plone.org//NONSGML plone.app.event//EN
X-WR-TIMEZONE:Europe/Rome
BEGIN:VEVENT
SUMMARY:CAR-T e neurotossicità
DTSTART;TZID=Europe/Rome;VALUE=DATE-TIME:20241001T084500
DTEND;TZID=Europe/Rome;VALUE=DATE-TIME:20241001T173000
DTSTAMP;VALUE=DATE-TIME:20260422T191532Z
UID:45d3928cda0f4c319dd43eee3f63b54f@127.0.0.1:8095
CATEGORIES:Istituto Scienze Neurologiche
CONTACT:MCC srl\, 051 263703\, segreteria@mccstudio.org\, http://www.mccst
 udio.org
CREATED;VALUE=DATE-TIME:20240925T163549Z
DESCRIPTION:Workshop - Policlinico di Sant’Orsola\, Aula Barbara\, Padig
 lione 5 Nuove Patologie\, Via Giuseppe Massarenti 9\, Bologna
LAST-MODIFIED;VALUE=DATE-TIME:20260316T143847Z
LOCATION:Policlinico di Sant’Orsola\, Aula Barbara Padiglione 5 Nuove Pa
 tologie Via Giuseppe Massarenti\, 9 - Bologna
URL:https://www.ausl.bologna.it/istituto-delle-scienze-neurologiche/appunt
 amenti-dellistituto/archivio/car-t-e-neurotossicita-workshop
END:VEVENT
BEGIN:VTIMEZONE
TZID:Europe/Rome
X-LIC-LOCATION:Europe/Rome
BEGIN:DAYLIGHT
DTSTART;VALUE=DATE-TIME:20240331T030000
TZNAME:CEST
TZOFFSETFROM:+0100
TZOFFSETTO:+0200
END:DAYLIGHT
END:VTIMEZONE
END:VCALENDAR
