BEGIN:VCALENDAR
VERSION:2.0
PRODID:-//Plone.org//NONSGML plone.app.event//EN
X-WR-TIMEZONE:Europe/Rome
BEGIN:VEVENT
SUMMARY:Bologna Parkinson 2024
DTSTART;TZID=Europe/Rome;VALUE=DATE-TIME:20240307T143000
DTEND;TZID=Europe/Rome;VALUE=DATE-TIME:20240308T180000
DTSTAMP;VALUE=DATE-TIME:20260422T191630Z
UID:bf514d7810ec48b1965464b0b9ffd81e@127.0.0.1:8095
CATEGORIES:Istituto Scienze Neurologiche
CONTACT:Segreteria organizzativa\, segreteria@mccstudio.org\, segreteria@m
 ccstudio.org
CREATED;VALUE=DATE-TIME:20240221T140550Z
DESCRIPTION:Corso di Aggiornamento\, Royal Hotel Carlton\, via Montebello 
 8\, Bologna\, 7 e 8 marzo 2024
LAST-MODIFIED;VALUE=DATE-TIME:20240221T142209Z
LOCATION:Bologna\, Royal Carlton Hotel
URL:https://www.ausl.bologna.it/istituto-delle-scienze-neurologiche/appunt
 amenti-dellistituto/archivio/bologna-parkinson-2024
END:VEVENT
BEGIN:VTIMEZONE
TZID:Europe/Rome
X-LIC-LOCATION:Europe/Rome
BEGIN:STANDARD
DTSTART;VALUE=DATE-TIME:20231029T020000
TZNAME:CET
TZOFFSETFROM:+0200
TZOFFSETTO:+0100
END:STANDARD
END:VTIMEZONE
END:VCALENDAR
