BEGIN:VCALENDAR
VERSION:2.0
PRODID:-//Plone.org//NONSGML plone.app.event//EN
X-WR-TIMEZONE:Europe/Rome
BEGIN:VEVENT
SUMMARY:Bologna Cadaver Lab
DTSTART;VALUE=DATE:20221212
DTEND;VALUE=DATE:20221213
DTSTAMP;VALUE=DATE-TIME:20260422T191648Z
UID:482688ca366d438e83ae34f18a51588a@127.0.0.1:8095
CATEGORIES:Istituto Scienze Neurologiche
CREATED;VALUE=DATE-TIME:20221007T131636Z
LAST-MODIFIED;VALUE=DATE-TIME:20221130T091609Z
URL:https://www.ausl.bologna.it/istituto-delle-scienze-neurologiche/appunt
 amenti-dellistituto/archivio/bologna-cadaver-lab-1
END:VEVENT
END:VCALENDAR
