BEGIN:VCALENDAR
VERSION:2.0
PRODID:-//Plone.org//NONSGML plone.app.event//EN
X-WR-TIMEZONE:Europe/Rome
BEGIN:VEVENT
SUMMARY:Assistive Technology for communication\, mobility\, and cognition
DTSTART;TZID=Europe/Rome;VALUE=DATE-TIME:20240524T150000
DTSTAMP;VALUE=DATE-TIME:20260422T191533Z
UID:138c3fcce53c419ea9e9f3bfe158978d@127.0.0.1:8095
ATTENDEE;CN="Dott.ssa Petra Karlsson (Cerebral Palsy Alliance, Universit
 à di Sydney)";ROLE=REQ-PARTICIPANT:Dott.ssa Petra Karlsson (Cerebral Pal
 sy Alliance, Università di Sydney)
CATEGORIES:Istituto Scienze Neurologiche
CREATED;VALUE=DATE-TIME:20240517T120525Z
DESCRIPTION:Seminario - Biblioteca Storica dell'Ospedale Bellaria (pad. in
 gresso\, secondo piano)\, ore 15.00
LAST-MODIFIED;VALUE=DATE-TIME:20260316T143230Z
LOCATION:Biblioteca Storica dell'Ospedale Bellaria (pad. ingresso\, second
 o piano)
URL:https://www.ausl.bologna.it/istituto-delle-scienze-neurologiche/appunt
 amenti-dellistituto/archivio/assistive-technology-for-communication-mobili
 ty-and-cognition-2024
END:VEVENT
BEGIN:VTIMEZONE
TZID:Europe/Rome
X-LIC-LOCATION:Europe/Rome
BEGIN:DAYLIGHT
DTSTART;VALUE=DATE-TIME:20240331T030000
TZNAME:CEST
TZOFFSETFROM:+0100
TZOFFSETTO:+0200
END:DAYLIGHT
END:VTIMEZONE
END:VCALENDAR
