BEGIN:VCALENDAR
VERSION:2.0
PRODID:-//Plone.org//NONSGML plone.app.event//EN
X-WR-TIMEZONE:Europe/Rome
BEGIN:VEVENT
SUMMARY:MAREA - Tornare al corpo
DTSTART;TZID=Europe/Rome;VALUE=DATE-TIME:20260225T150000
DTEND;TZID=Europe/Rome;VALUE=DATE-TIME:20260225T163000
DTSTAMP;VALUE=DATE-TIME:20260420T030652Z
UID:6fb3ab03a3ae4b66acaf23f9bf3a155a@127.0.0.1:8095
CONTACT:Per informazioni e iscrizioni\, info@dnamove.com\, https://www.aus
 l.bologna.it/news/current/quando-il-movomento-puo-essere-cura-nasce-marea-
 laboratorio-gratuito-di-danza-espressiva
CREATED;VALUE=DATE-TIME:20260224T091830Z
DESCRIPTION:Laboratorio performativo di movimento espressivo e danza conte
 mporanea a cura di DNA Danza\, in collaborazione con AUSER Bologna\, Comun
 e di San Lazzaro e Azienda USL di Bologna (Dipartimento di Sanità Pubblic
 a e Distretto Savena Idice)
LAST-MODIFIED;VALUE=DATE-TIME:20260224T091919Z
LOCATION:Officine San Lab - via Emilia 253/A\, San Lazzaro di Savena
URL:https://www.ausl.bologna.it/eventi/current/marea-tornare-al-corpo
END:VEVENT
BEGIN:VTIMEZONE
TZID:Europe/Rome
X-LIC-LOCATION:Europe/Rome
BEGIN:STANDARD
DTSTART;VALUE=DATE-TIME:20251026T020000
TZNAME:CET
TZOFFSETFROM:+0200
TZOFFSETTO:+0100
END:STANDARD
END:VTIMEZONE
END:VCALENDAR
