BEGIN:VCALENDAR
VERSION:2.0
PRODID:-//Plone.org//NONSGML plone.app.event//EN
X-WR-TIMEZONE:Europe/Rome
BEGIN:VEVENT
SUMMARY:Le Comunità Consapevoli: benessere condiviso e prevenzione nella 
 relazione tra operatori IFEC e cittadini
DTSTART;TZID=Europe/Rome;VALUE=DATE-TIME:20260328T180000
DTSTAMP;VALUE=DATE-TIME:20260420T031251Z
UID:6d7143adb86946318a029a3938a77b60@127.0.0.1:8095
CONTACT:https://www.ausl.bologna.it/news/current/le-comunita-consapevoli-b
 enessere-condiviso-e-prevenzione-nella-relazione-tra-operatori-ifec-e-citt
 adini
CREATED;VALUE=DATE-TIME:20260323T073230Z
DESCRIPTION:Un conferecital e un talk pubblico per raccontare il lavoro de
 gli Infermieri di Famiglia e Comunità nella sanità territoriale
LAST-MODIFIED;VALUE=DATE-TIME:20260323T142106Z
LOCATION:Casa della Comunità Navile (via Domenico Svampa 8\, Bologna)
URL:https://www.ausl.bologna.it/eventi/current/le-comunita-consapevoli-ben
 essere-condiviso-e-prevenzione-nella-relazione-tra-operatori-ifec-e-cittad
 ini
END:VEVENT
BEGIN:VTIMEZONE
TZID:Europe/Rome
X-LIC-LOCATION:Europe/Rome
BEGIN:STANDARD
DTSTART;VALUE=DATE-TIME:20251026T020000
TZNAME:CET
TZOFFSETFROM:+0200
TZOFFSETTO:+0100
END:STANDARD
END:VTIMEZONE
END:VCALENDAR
