BEGIN:VCALENDAR
VERSION:2.0
PRODID:-//Plone.org//NONSGML plone.app.event//EN
X-WR-TIMEZONE:Europe/Rome
BEGIN:VEVENT
SUMMARY:Tè con l’esperto: nel Distretto Pianura Est un ciclo di incontr
 i dedicati a familiari e caregiver delle persone con demenza
DTSTART;TZID=Europe/Rome;VALUE=DATE-TIME:20260318T163000
DTEND;TZID=Europe/Rome;VALUE=DATE-TIME:20260318T173000
DTSTAMP;VALUE=DATE-TIME:20260420T031627Z
UID:1448095d89504f26967ca7e410b180bf@127.0.0.1:8095
CONTACT:https://www.ausl.bologna.it/news/current/te-con-l2019esperto-nel-d
 istretto-pianura-estun-ciclo-di-incontri-dedicati-a-familiari-e-caregiver-
 delle-persone-con-demenza
CREATED;VALUE=DATE-TIME:20260206T083601Z
DESCRIPTION:Un’occasione di confronto e ascolto promossa dalla rete dei 
 professionisti dei Centri Disturbi Cognitivi e Demenze\, aperta a tutta la
  cittadinanza
LAST-MODIFIED;VALUE=DATE-TIME:20260206T084339Z
LOCATION:Sala Polivalente della CRA Virginia Grandi\, via Asia 177 - San P
 ietro in Casale.
URL:https://www.ausl.bologna.it/eventi/current/copy_of_te-con-l2019esperto
 -nel-distretto-pianura-est-un-ciclo-di-incontri-dedicati-a-familiari-e-car
 egiver-delle-persone-con-demenza
END:VEVENT
BEGIN:VTIMEZONE
TZID:Europe/Rome
X-LIC-LOCATION:Europe/Rome
BEGIN:STANDARD
DTSTART;VALUE=DATE-TIME:20251026T020000
TZNAME:CET
TZOFFSETFROM:+0200
TZOFFSETTO:+0100
END:STANDARD
END:VTIMEZONE
END:VCALENDAR
