BEGIN:VCALENDAR
VERSION:2.0
PRODID:-//Plone.org//NONSGML plone.app.event//EN
X-WR-TIMEZONE:Europe/Rome
BEGIN:VEVENT
SUMMARY:Mi accogli? Mi affido
DTSTART;TZID=Europe/Rome;VALUE=DATE-TIME:20260330T170000
DTEND;TZID=Europe/Rome;VALUE=DATE-TIME:20260330T203000
DTSTAMP;VALUE=DATE-TIME:20260420T031154Z
UID:0e67aa47cf9741b5808486b502647145@127.0.0.1:8095
CONTACT:Luigina Russo - ASC Insieme\, lrusso@ascinsieme.it\, https://www.a
 usl.bologna.it/news/current/accoglienza-e-affido-familiare-nel-distretto-r
 eno-lavino-e-samoggia-al-via-la-terza-edizione-del-percorso-informativo-ap
 erto-alla-cittadinanza
CREATED;VALUE=DATE-TIME:20260129T093522Z
DESCRIPTION:Nell'ambito del percorso informativo e formativo "Mi accogli? 
 Mi (af)fido! Quali progetti per qual* bambin*"
LAST-MODIFIED;VALUE=DATE-TIME:20260129T094321Z
LOCATION:Sala Giorgi\, via del Mercato 13 - Sasso Marconi
URL:https://www.ausl.bologna.it/eventi/current/copy3_of_accoglienza-e-affi
 do-familiare-quali-bisogni-e-quali-risorse
END:VEVENT
BEGIN:VTIMEZONE
TZID:Europe/Rome
X-LIC-LOCATION:Europe/Rome
BEGIN:DAYLIGHT
DTSTART;VALUE=DATE-TIME:20260329T030000
TZNAME:CEST
TZOFFSETFROM:+0100
TZOFFSETTO:+0200
END:DAYLIGHT
END:VTIMEZONE
END:VCALENDAR
