BEGIN:VCALENDAR
VERSION:2.0
PRODID:-//Plone.org//NONSGML plone.app.event//EN
X-WR-TIMEZONE:Europe/Rome
BEGIN:VEVENT
SUMMARY:Tè con l’esperto: nel Distretto Pianura Est un ciclo di incontr
 i dedicati a familiari e caregiver delle persone con demenza
DTSTART;TZID=Europe/Rome;VALUE=DATE-TIME:20260415T163000
DTEND;TZID=Europe/Rome;VALUE=DATE-TIME:20260415T173000
DTSTAMP;VALUE=DATE-TIME:20260420T031512Z
UID:334eb253f76f41b2aa6cccff2672b922@127.0.0.1:8095
CONTACT:https://www.ausl.bologna.it/news/current/te-con-l2019esperto-nel-d
 istretto-pianura-estun-ciclo-di-incontri-dedicati-a-familiari-e-caregiver-
 delle-persone-con-demenza
CREATED;VALUE=DATE-TIME:20260206T083601Z
DESCRIPTION:Un’occasione di confronto e ascolto promossa dalla rete dei 
 professionisti dei Centri Disturbi Cognitivi e Demenze\, aperta a tutta la
  cittadinanza
LAST-MODIFIED;VALUE=DATE-TIME:20260206T084433Z
LOCATION:Sala Polivalente della CRA Virginia Grandi\, via Asia 177 - San P
 ietro in Casale.
URL:https://www.ausl.bologna.it/eventi/current/copy2_of_te-con-l2019espert
 o-nel-distretto-pianura-est-un-ciclo-di-incontri-dedicati-a-familiari-e-ca
 regiver-delle-persone-con-demenza
END:VEVENT
BEGIN:VTIMEZONE
TZID:Europe/Rome
X-LIC-LOCATION:Europe/Rome
BEGIN:DAYLIGHT
DTSTART;VALUE=DATE-TIME:20260329T030000
TZNAME:CEST
TZOFFSETFROM:+0100
TZOFFSETTO:+0200
END:DAYLIGHT
END:VTIMEZONE
END:VCALENDAR
