BEGIN:VCALENDAR
VERSION:2.0
PRODID:-//Plone.org//NONSGML plone.app.event//EN
X-WR-TIMEZONE:Europe/Rome
BEGIN:VEVENT
SUMMARY:"Confronto con l'esperto" Un ciclo di incontri sulla prevenzione d
 ella salute a cura di Donatella Barbetta
DTSTART;TZID=Europe/Rome;VALUE=DATE-TIME:20260415T170000
DTSTAMP;VALUE=DATE-TIME:20260423T103805Z
UID:0c14139942c64cc889fb746fa4b7d5f4@127.0.0.1:8095
CREATED;VALUE=DATE-TIME:20260415T123227Z
DESCRIPTION:13° incontro - Nutrizione per la longevità con Roberta Carli
LAST-MODIFIED;VALUE=DATE-TIME:20260422T101431Z
LOCATION:Casa di Quartiere Foscherara - Via Abba 6/A\, Bologna
URL:https://www.ausl.bologna.it/eventi/archivio-eventi-2026/confronto-con-
 lesperto-un-ciclo-di-incontri-sulla-prevenzione-della-salute-a-cura-di-don
 atella-barbetta
END:VEVENT
BEGIN:VTIMEZONE
TZID:Europe/Rome
X-LIC-LOCATION:Europe/Rome
BEGIN:DAYLIGHT
DTSTART;VALUE=DATE-TIME:20260329T030000
TZNAME:CEST
TZOFFSETFROM:+0100
TZOFFSETTO:+0200
END:DAYLIGHT
END:VTIMEZONE
END:VCALENDAR
