BEGIN:VCALENDAR
VERSION:2.0
PRODID:-//Plone.org//NONSGML plone.app.event//EN
X-WR-TIMEZONE:Europe/Rome
BEGIN:VEVENT
SUMMARY:Cinevasioni.edu\, il cinema in ospedale: “Ben is Back”
DTSTART;TZID=Europe/Rome;VALUE=DATE-TIME:20260227T153000
DTSTAMP;VALUE=DATE-TIME:20260420T042341Z
UID:77514771c0e1465883bb4b18ffede31b@127.0.0.1:8095
CONTACT:https://www.ausl.bologna.it/news/current/cinevasioni-edu-il-cinema
 -in-ospedale-201cben-is-back201d-alla-casa-della-comunita-porto-saragozza
CREATED;VALUE=DATE-TIME:20260224T072435Z
DESCRIPTION:Un pomeriggio di visione e confronto sul tema delle dipendenze
LAST-MODIFIED;VALUE=DATE-TIME:20260224T091946Z
LOCATION:Casa della Comunità Porto Saragozza\, Aule delle Colonne - via S
 ant’Isaia 94/A\, Bologna
URL:https://www.ausl.bologna.it/eventi/current/cinevasioni-edu-il-cinema-i
 n-ospedale-201cben-is-back201d
END:VEVENT
BEGIN:VTIMEZONE
TZID:Europe/Rome
X-LIC-LOCATION:Europe/Rome
BEGIN:STANDARD
DTSTART;VALUE=DATE-TIME:20251026T020000
TZNAME:CET
TZOFFSETFROM:+0200
TZOFFSETTO:+0100
END:STANDARD
END:VTIMEZONE
END:VCALENDAR
