BEGIN:VCALENDAR
VERSION:2.0
PRODID:-//Plone.org//NONSGML plone.app.event//EN
X-WR-TIMEZONE:Europe/Rome
BEGIN:VEVENT
SUMMARY:Cinevasioni.edu – Il cinema in ospedale - La quercia e i suoi ab
 itanti
DTSTART;TZID=Europe/Rome;VALUE=DATE-TIME:20260330T153000
DTEND;TZID=Europe/Rome;VALUE=DATE-TIME:20260330T163000
DTSTAMP;VALUE=DATE-TIME:20260420T042455Z
UID:e65ac03141b245b988c2984157f1e9c0@127.0.0.1:8095
CONTACT:https://www.ausl.bologna.it/news/current/cinevasioni-edu-2013-il-c
 inema-in-ospedale-due-nuovi-appuntamenti-nellaula-magna-dellospedale-bella
 ria
CREATED;VALUE=DATE-TIME:20260318T105437Z
DESCRIPTION:Proseguono gli incontri della rassegna con proiezioni e moment
 i di confronto con professionisti dell’Azienda USL di Bologna
LAST-MODIFIED;VALUE=DATE-TIME:20260318T105446Z
LOCATION:Aula Magna dell’Ospedale Bellaria (Via Altura 3\, Bologna)
URL:https://www.ausl.bologna.it/eventi/current/cinevasioni-edu-2013-il-cin
 ema-in-ospedale-la-quercia-e-i-suoi-abitanti
END:VEVENT
BEGIN:VTIMEZONE
TZID:Europe/Rome
X-LIC-LOCATION:Europe/Rome
BEGIN:DAYLIGHT
DTSTART;VALUE=DATE-TIME:20260329T030000
TZNAME:CEST
TZOFFSETFROM:+0100
TZOFFSETTO:+0200
END:DAYLIGHT
END:VTIMEZONE
END:VCALENDAR
