BEGIN:VCALENDAR
VERSION:2.0
PRODID:-//Plone.org//NONSGML plone.app.event//EN
X-WR-TIMEZONE:Europe/Rome
BEGIN:VEVENT
SUMMARY:Cantieri sicuri. Formazione\, assistenza e vigilanza per la sicure
 zza e la salute in edilizia
DTSTART;TZID=Europe/Rome;VALUE=DATE-TIME:20260428T140000
DTEND;TZID=Europe/Rome;VALUE=DATE-TIME:20260428T160000
DTSTAMP;VALUE=DATE-TIME:20260420T030857Z
UID:17599e0a2af94ba8a4b9a47a8cc96e40@127.0.0.1:8095
CATEGORIES:DSP
CREATED;VALUE=DATE-TIME:20260324T144658Z
DESCRIPTION:Convegno IIPLE-CPTO\, in occasione della Giornata mondiale per
  la salute e la sicurezza sul lavoro
LAST-MODIFIED;VALUE=DATE-TIME:20260324T145205Z
LOCATION:Bologna\, Savoia Hotel Regency\, Via del Pilastro\, 2
URL:https://www.ausl.bologna.it/eventi/current/cantieri-sicuri-formazione-
 iiple-cpto
END:VEVENT
BEGIN:VTIMEZONE
TZID:Europe/Rome
X-LIC-LOCATION:Europe/Rome
BEGIN:DAYLIGHT
DTSTART;VALUE=DATE-TIME:20260329T030000
TZNAME:CEST
TZOFFSETFROM:+0100
TZOFFSETTO:+0200
END:DAYLIGHT
END:VTIMEZONE
END:VCALENDAR
