BEGIN:VCALENDAR
VERSION:2.0
PRODID:-//Plone.org//NONSGML plone.app.event//EN
X-WR-TIMEZONE:Europe/Rome
BEGIN:VEVENT
SUMMARY:Atrofie dei mascellari congenite e acquisite: trattamento delle di
 smorfie cranio-facciali\, OSAS e riabilitazioni implantari avanzate
DTSTART;TZID=Europe/Rome;VALUE=DATE-TIME:20260320T083000
DTEND;TZID=Europe/Rome;VALUE=DATE-TIME:20260320T180000
DTSTAMP;VALUE=DATE-TIME:20260420T042555Z
UID:084ae7e7d84740179a68020493698987@127.0.0.1:8095
ATTENDEE;CN="Medici e Chirurghi, Odontoiatri e Professionisti Sanitari int
 eressati ad approfondire le più recenti strategie diagnostiche e terapeut
 iche nel trattamento delle atrofie mascellari, delle dismorfie cranio-facc
 iali e delle problematiche correlate alla OSAS";ROLE=REQ-PARTICIPANT:Medic
 i e Chirurghi, Odontoiatri e Professionisti Sanitari interessati ad approf
 ondire le più recenti strategie diagnostiche e terapeutiche nel trattamen
 to delle atrofie mascellari, delle dismorfie cranio-facciali e delle probl
 ematiche correlate alla OSAS
CONTACT:eventi.ausl.bologna@gmail.com
CREATED;VALUE=DATE-TIME:20260206T092434Z
DESCRIPTION:Un evento formativo gratuito con crediti ECM dedicato ai tratt
 amenti avanzati in ambito cranio-facciale e riabilitazioni  implantari ava
 nzate. Iscrizioni entro il 10 marzo 2026
LAST-MODIFIED;VALUE=DATE-TIME:20260206T092540Z
LOCATION:Aula Magna dell’Ospedale Maggiore\, Largo Bartolo Nigrisoli 2 -
  Bologna
URL:https://www.ausl.bologna.it/eventi/current/atrofie-dei-mascellari-cong
 enite-e-acquisite-trattamento-delle-dismorfie-cranio-facciali-osas-e-riabi
 litazioni-implantari-avanzate
END:VEVENT
BEGIN:VTIMEZONE
TZID:Europe/Rome
X-LIC-LOCATION:Europe/Rome
BEGIN:STANDARD
DTSTART;VALUE=DATE-TIME:20251026T020000
TZNAME:CET
TZOFFSETFROM:+0200
TZOFFSETTO:+0100
END:STANDARD
END:VTIMEZONE
END:VCALENDAR
