BEGIN:VCALENDAR
VERSION:2.0
PRODID:-//Plone.org//NONSGML plone.app.event//EN
X-WR-TIMEZONE:Europe/Rome
BEGIN:VEVENT
SUMMARY:MAREA - Tornare al corpo
DTSTART;TZID=Europe/Rome;VALUE=DATE-TIME:20260401T150000
DTEND;TZID=Europe/Rome;VALUE=DATE-TIME:20260401T163000
DTSTAMP;VALUE=DATE-TIME:20260420T030744Z
UID:7fbac19dffd1453780ac0468aea647f2@127.0.0.1:8095
CONTACT:Per informazioni e iscrizioni\, info@dnamove.com\, https://www.aus
 l.bologna.it/news/current/quando-il-movomento-puo-essere-cura-nasce-marea-
 laboratorio-gratuito-di-danza-espressiva
CREATED;VALUE=DATE-TIME:20260224T091830Z
DESCRIPTION:Laboratorio performativo di movimento espressivo e danza conte
 mporanea a cura di DNA Danza\, in collaborazione con AUSER Bologna\, Comun
 e di San Lazzaro e Azienda USL di Bologna (Dipartimento di Sanità Pubblic
 a e Distretto Savena Idice)
LAST-MODIFIED;VALUE=DATE-TIME:20260224T092731Z
LOCATION:Officine San Lab - via Emilia 253/A\, San Lazzaro di Savena
URL:https://www.ausl.bologna.it/eventi/current/4marea-tornare-al-corpo
END:VEVENT
BEGIN:VTIMEZONE
TZID:Europe/Rome
X-LIC-LOCATION:Europe/Rome
BEGIN:DAYLIGHT
DTSTART;VALUE=DATE-TIME:20260329T030000
TZNAME:CEST
TZOFFSETFROM:+0100
TZOFFSETTO:+0200
END:DAYLIGHT
END:VTIMEZONE
END:VCALENDAR
