BEGIN:VCALENDAR
VERSION:2.0
PRODID:-//Plone.org//NONSGML plone.app.event//EN
X-WR-TIMEZONE:Europe/Rome
BEGIN:VEVENT
SUMMARY:What is the Risk of  Leber's hereditary optic neuropathy (LHON)?
DTSTART;TZID=Europe/Rome;VALUE=DATE-TIME:20230713T160000
DTEND;TZID=Europe/Rome;VALUE=DATE-TIME:20230713T180000
DTSTAMP;VALUE=DATE-TIME:20260420T075746Z
UID:16d035d9ce854eaf87dc21383decf080@127.0.0.1:8095
CATEGORIES:Istituto Scienze Neurologiche
CREATED;VALUE=DATE-TIME:20230703T141519Z
DESCRIPTION:Seminari IRCCS
LAST-MODIFIED;VALUE=DATE-TIME:20231116T081128Z
URL:https://www.ausl.bologna.it/eventi/archivio/what-is-the-risk-of-lebers
 -hereditary-optic-neuropathy-lhon
END:VEVENT
BEGIN:VTIMEZONE
TZID:Europe/Rome
X-LIC-LOCATION:Europe/Rome
BEGIN:DAYLIGHT
DTSTART;VALUE=DATE-TIME:20230326T030000
TZNAME:CEST
TZOFFSETFROM:+0100
TZOFFSETTO:+0200
END:DAYLIGHT
END:VTIMEZONE
END:VCALENDAR
