BEGIN:VCALENDAR
VERSION:2.0
PRODID:-//Plone.org//NONSGML plone.app.event//EN
X-WR-TIMEZONE:Europe/Rome
BEGIN:VEVENT
SUMMARY:Voglio stare bene!
DTSTART;TZID=Europe/Rome;VALUE=DATE-TIME:20241202T160000
DTSTAMP;VALUE=DATE-TIME:20260420T044245Z
UID:ef489a2eaf3646a6a388407a5b5cf413@127.0.0.1:8095
CREATED;VALUE=DATE-TIME:20241128T094639Z
DESCRIPTION:Un nuovo evento del "Salute a te! Festival"\, nell'ambito del 
 progetto "Il Corpo delle Donne. Corpo sociale.Una lunga storia di Interazi
 oni 2024"
LAST-MODIFIED;VALUE=DATE-TIME:20250313T141150Z
LOCATION:Aula Ferrari del ex Ospedale Roncati\,  via Sant’Isaia 90 - Bol
 ogna
URL:https://www.ausl.bologna.it/eventi/archivio/voglio-stare-bene
END:VEVENT
BEGIN:VTIMEZONE
TZID:Europe/Rome
X-LIC-LOCATION:Europe/Rome
BEGIN:STANDARD
DTSTART;VALUE=DATE-TIME:20241027T020000
TZNAME:CET
TZOFFSETFROM:+0200
TZOFFSETTO:+0100
END:STANDARD
END:VTIMEZONE
END:VCALENDAR
