BEGIN:VCALENDAR
VERSION:2.0
PRODID:-//Plone.org//NONSGML plone.app.event//EN
X-WR-TIMEZONE:Europe/Rome
BEGIN:VEVENT
SUMMARY:Vieni\, camminiamo insieme per fare memoria
DTSTART;TZID=Europe/Rome;VALUE=DATE-TIME:20230318T100000
DTEND;TZID=Europe/Rome;VALUE=DATE-TIME:20230318T220000
DTSTAMP;VALUE=DATE-TIME:20260420T011500Z
UID:724ab1aaadc648969deef456cdfb390b@127.0.0.1:8095
CREATED;VALUE=DATE-TIME:20230228T140211Z
DESCRIPTION:Giornata nazionale in memoria delle vittime del Covid-19
LAST-MODIFIED;VALUE=DATE-TIME:20230825T062628Z
LOCATION:Portici di San Luca
URL:https://www.ausl.bologna.it/eventi/archivio/vieni-camminiamo-insieme-p
 er-fare-memoria
END:VEVENT
BEGIN:VTIMEZONE
TZID:Europe/Rome
X-LIC-LOCATION:Europe/Rome
BEGIN:STANDARD
DTSTART;VALUE=DATE-TIME:20221030T020000
TZNAME:CET
TZOFFSETFROM:+0200
TZOFFSETTO:+0100
END:STANDARD
END:VTIMEZONE
END:VCALENDAR
