BEGIN:VCALENDAR
VERSION:2.0
PRODID:-//Plone.org//NONSGML plone.app.event//EN
X-WR-TIMEZONE:Europe/Rome
BEGIN:VEVENT
SUMMARY:Uniti contro il cancro. Prospettive\, terapia e ricerca (Evento an
 nullato)
DTSTART;TZID=Europe/Rome;VALUE=DATE-TIME:20230519T210000
DTSTAMP;VALUE=DATE-TIME:20260420T093750Z
UID:fcd5e0e2f0f349c8802a8d1b9193b542@127.0.0.1:8095
CREATED;VALUE=DATE-TIME:20230504T064401Z
DESCRIPTION:Dialogo con istituzioni\, professionisti della sanità\, assoc
 iazioni e cittadini per fare rete contro il cancro
LAST-MODIFIED;VALUE=DATE-TIME:20230825T062636Z
LOCATION:MAST Auditorium - Via Speranza 42\, Bologna
URL:https://www.ausl.bologna.it/eventi/archivio/uniti-contro-il-cancro-pro
 spettive-terapia-e-ricerca
END:VEVENT
BEGIN:VTIMEZONE
TZID:Europe/Rome
X-LIC-LOCATION:Europe/Rome
BEGIN:DAYLIGHT
DTSTART;VALUE=DATE-TIME:20230326T030000
TZNAME:CEST
TZOFFSETFROM:+0100
TZOFFSETTO:+0200
END:DAYLIGHT
END:VTIMEZONE
END:VCALENDAR
