BEGIN:VCALENDAR
VERSION:2.0
PRODID:-//Plone.org//NONSGML plone.app.event//EN
X-WR-TIMEZONE:Europe/Rome
BEGIN:VEVENT
SUMMARY:Un ponte tra carcere e città
DTSTART;TZID=Europe/Rome;VALUE=DATE-TIME:20230926T180000
DTEND;TZID=Europe/Rome;VALUE=DATE-TIME:20230926T210000
DTSTAMP;VALUE=DATE-TIME:20260420T093349Z
UID:c912e2af73f74611ab35d0fa448ead21@127.0.0.1:8095
CONTACT:https://www.ausl.bologna.it/cit/cp/liberi-dentro-eduradio
CREATED;VALUE=DATE-TIME:20230912T091221Z
DESCRIPTION:Navile con Eduradio&Tv per il settimo quartiere della città
LAST-MODIFIED;VALUE=DATE-TIME:20231116T081124Z
LOCATION:Bologna\, Casa di Quartiere Katia Bertasi - Piazza Lucio Dalla
URL:https://www.ausl.bologna.it/eventi/archivio/un-ponte-tra-carcere-e-cit
 ta
END:VEVENT
BEGIN:VTIMEZONE
TZID:Europe/Rome
X-LIC-LOCATION:Europe/Rome
BEGIN:DAYLIGHT
DTSTART;VALUE=DATE-TIME:20230326T030000
TZNAME:CEST
TZOFFSETFROM:+0100
TZOFFSETTO:+0200
END:DAYLIGHT
END:VTIMEZONE
END:VCALENDAR
