BEGIN:VCALENDAR
VERSION:2.0
PRODID:-//Plone.org//NONSGML plone.app.event//EN
X-WR-TIMEZONE:Europe/Rome
BEGIN:VEVENT
SUMMARY:UmanizzArte
DTSTART;TZID=Europe/Rome;VALUE=DATE-TIME:20241209T150000
DTSTAMP;VALUE=DATE-TIME:20260420T044226Z
UID:331f2841b86048d7973738453e1aa3ca@127.0.0.1:8095
CREATED;VALUE=DATE-TIME:20241128T103642Z
DESCRIPTION:Verso una regia cittadina per l’introduzione dei linguaggi a
 rtistici nei luoghi di cura\, tra umanizzazione e welfare culturale.
LAST-MODIFIED;VALUE=DATE-TIME:20250313T141151Z
LOCATION:Sala dello Stabat Mater all’Archiginnasio - Piazza Galvani 1\, 
 Bologna
URL:https://www.ausl.bologna.it/eventi/archivio/umanizzarte
END:VEVENT
BEGIN:VTIMEZONE
TZID:Europe/Rome
X-LIC-LOCATION:Europe/Rome
BEGIN:STANDARD
DTSTART;VALUE=DATE-TIME:20241027T020000
TZNAME:CET
TZOFFSETFROM:+0200
TZOFFSETTO:+0100
END:STANDARD
END:VTIMEZONE
END:VCALENDAR
