BEGIN:VCALENDAR
VERSION:2.0
PRODID:-//Plone.org//NONSGML plone.app.event//EN
X-WR-TIMEZONE:Europe/Rome
BEGIN:VEVENT
SUMMARY:Trauma: Update and Organization. XVIII edizione
DTSTART;VALUE=DATE:20240416
DTEND;VALUE=DATE:20240418
DTSTAMP;VALUE=DATE-TIME:20260420T075556Z
UID:8d15cc0cc7ee40b1b976e7c8fd23f9bd@127.0.0.1:8095
CONTACT:https://www.noemacongressi.it/archivio-eventi-passati/trauma-updat
 e-and-organization-il-trauma-dal-passato-al-futuro-le-eta-estreme-le-maxie
 mergenze-e-lintelligenza-artificiale/
CREATED;VALUE=DATE-TIME:20240226T082922Z
DESCRIPTION:Il trauma dal passato al futuro: le età estreme\, le maxiemer
 genze e l'intelligenza artificiale. Bologna\, Royal Carlton Hotel\, 16 e 1
 7 aprile 2024
LAST-MODIFIED;VALUE=DATE-TIME:20240912T094145Z
LOCATION:Bologna\, Royal Carlton Hotel
URL:https://www.ausl.bologna.it/eventi/archivio/trauma-update-and-organiza
 tion-xviii-edizione
END:VEVENT
END:VCALENDAR
