BEGIN:VCALENDAR
VERSION:2.0
PRODID:-//Plone.org//NONSGML plone.app.event//EN
X-WR-TIMEZONE:Europe/Rome
BEGIN:VEVENT
SUMMARY:Tosse cronica: cosa aspettarci dal futuro
DTSTART;TZID=Europe/Rome;VALUE=DATE-TIME:20230203T080000
DTEND;TZID=Europe/Rome;VALUE=DATE-TIME:20230204T133000
DTSTAMP;VALUE=DATE-TIME:20260420T093924Z
UID:081a110836f24ed18384954d02bbba77@127.0.0.1:8095
CONTACT:I&C Srl\, barbara.dascoli@iec-srl.it\, https://www.leanevent.it/14
 aist_reg/
CREATED;VALUE=DATE-TIME:20221206T110919Z
DESCRIPTION:14° Congresso AIST\,  3 e 4 febbraio 2023\, NH Bologna De La 
 Gare\, Piazza XX Settembre 2\, Bologna
LAST-MODIFIED;VALUE=DATE-TIME:20230825T062430Z
LOCATION:Bologna\, NH Bologna De La Gare\, Piazza XX Settembre 2
URL:https://www.ausl.bologna.it/eventi/archivio/tosse-cronica-cosa-aspetta
 rci-dal-futuro
END:VEVENT
BEGIN:VTIMEZONE
TZID:Europe/Rome
X-LIC-LOCATION:Europe/Rome
BEGIN:STANDARD
DTSTART;VALUE=DATE-TIME:20221030T020000
TZNAME:CET
TZOFFSETFROM:+0200
TZOFFSETTO:+0100
END:STANDARD
END:VTIMEZONE
END:VCALENDAR
