BEGIN:VCALENDAR
VERSION:2.0
PRODID:-//Plone.org//NONSGML plone.app.event//EN
X-WR-TIMEZONE:Europe/Rome
BEGIN:VEVENT
SUMMARY:Tieni in forma il tuo cuore
DTSTART;TZID=Europe/Rome;VALUE=DATE-TIME:20230930T100000
DTEND;TZID=Europe/Rome;VALUE=DATE-TIME:20230930T180000
DTSTAMP;VALUE=DATE-TIME:20260420T093609Z
UID:e4bc1d38fca74733892692ebcde50652@127.0.0.1:8095
CONTACT:https://salute.regione.emilia-romagna.it/campagne/tieni-in-forma-i
 l-tuo-cuore-campagna-regionale-di-prevenzione-del-rischio-cardiovascolare
CREATED;VALUE=DATE-TIME:20230913T072822Z
DESCRIPTION:A Bologna\, in Piazza Maggiore\, una clinica mobile attrezzata
  e  professionisti delle equipe cardiologiche delle Aziende sanitarie e os
 pedaliere bolognesi
LAST-MODIFIED;VALUE=DATE-TIME:20231116T081125Z
LOCATION:Bologna\, Piazza Maggiore
URL:https://www.ausl.bologna.it/eventi/archivio/tieni-in-forma-il-tuo-cuor
 e
END:VEVENT
BEGIN:VTIMEZONE
TZID:Europe/Rome
X-LIC-LOCATION:Europe/Rome
BEGIN:DAYLIGHT
DTSTART;VALUE=DATE-TIME:20230326T030000
TZNAME:CEST
TZOFFSETFROM:+0100
TZOFFSETTO:+0200
END:DAYLIGHT
END:VTIMEZONE
END:VCALENDAR
