BEGIN:VCALENDAR
VERSION:2.0
PRODID:-//Plone.org//NONSGML plone.app.event//EN
X-WR-TIMEZONE:Europe/Rome
BEGIN:VEVENT
SUMMARY:Lo SPORTello informativo per attività motoria e sportiva adattata
DTSTART;TZID=Europe/Rome;VALUE=DATE-TIME:20240315T150000
DTEND;TZID=Europe/Rome;VALUE=DATE-TIME:20240315T163000
DTSTAMP;VALUE=DATE-TIME:20260420T074808Z
UID:3dbda025512046509f927f10842a7af3@127.0.0.1:8095
CREATED;VALUE=DATE-TIME:20240229T115017Z
DESCRIPTION:Nell'ambito di "Incontri per la salute. Una comunità che cres
 ce"
LAST-MODIFIED;VALUE=DATE-TIME:20240912T094111Z
LOCATION:Bologna\, Casa della Comunità Borgo Reno - Via Nani 10
URL:https://www.ausl.bologna.it/eventi/archivio/sportiva-adattata
END:VEVENT
BEGIN:VTIMEZONE
TZID:Europe/Rome
X-LIC-LOCATION:Europe/Rome
BEGIN:STANDARD
DTSTART;VALUE=DATE-TIME:20231029T020000
TZNAME:CET
TZOFFSETFROM:+0200
TZOFFSETTO:+0100
END:STANDARD
END:VTIMEZONE
END:VCALENDAR
