BEGIN:VCALENDAR
VERSION:2.0
PRODID:-//Plone.org//NONSGML plone.app.event//EN
X-WR-TIMEZONE:Europe/Rome
BEGIN:VEVENT
SUMMARY:11° Flashmob regionale "Allattiamo insieme" e "Note di latte... p
 er sentire e ascoltarsi"
DTSTART;TZID=Europe/Rome;VALUE=DATE-TIME:20231007T093000
DTEND;TZID=Europe/Rome;VALUE=DATE-TIME:20231007T123000
DTSTAMP;VALUE=DATE-TIME:20260420T092228Z
UID:8955589e9e3b45b7913d30d18ff2ecf2@127.0.0.1:8095
CREATED;VALUE=DATE-TIME:20230920T082245Z
DESCRIPTION:Indossa una maglietta bianca e partecipa anche tu. Vieni ad al
 lattare il tuo bambino con noi a San Lazzaro di Savena
LAST-MODIFIED;VALUE=DATE-TIME:20231116T081154Z
LOCATION:Corte del Palazzo Comunale - Via Emilia 92\, San Lazzaro di Saven
 a
URL:https://www.ausl.bologna.it/eventi/archivio/sl-flashmob-regionale-alla
 ttiamo-insieme
END:VEVENT
BEGIN:VTIMEZONE
TZID:Europe/Rome
X-LIC-LOCATION:Europe/Rome
BEGIN:DAYLIGHT
DTSTART;VALUE=DATE-TIME:20230326T030000
TZNAME:CEST
TZOFFSETFROM:+0100
TZOFFSETTO:+0200
END:DAYLIGHT
END:VTIMEZONE
END:VCALENDAR
