BEGIN:VCALENDAR
VERSION:2.0
PRODID:-//Plone.org//NONSGML plone.app.event//EN
X-WR-TIMEZONE:Europe/Rome
BEGIN:VEVENT
SUMMARY:Caregiver day 2024 del Distretto Savena Idice
DTSTART;TZID=Europe/Rome;VALUE=DATE-TIME:20241003T153000
DTSTAMP;VALUE=DATE-TIME:20260420T063430Z
UID:d34a5afe03264a3997a489022a08fdc5@127.0.0.1:8095
CREATED;VALUE=DATE-TIME:20240912T093844Z
DESCRIPTION:A San Lazzaro\, un momento per restituire cura a chi cura
LAST-MODIFIED;VALUE=DATE-TIME:20241128T093647Z
LOCATION:Mediateca\, via Caselle 22 San Lazzaro di Savena
URL:https://www.ausl.bologna.it/eventi/archivio/sl-caregiver-2024-del-dist
 retto-savena-idice
END:VEVENT
BEGIN:VTIMEZONE
TZID:Europe/Rome
X-LIC-LOCATION:Europe/Rome
BEGIN:DAYLIGHT
DTSTART;VALUE=DATE-TIME:20240331T030000
TZNAME:CEST
TZOFFSETFROM:+0100
TZOFFSETTO:+0200
END:DAYLIGHT
END:VTIMEZONE
END:VCALENDAR
