BEGIN:VCALENDAR
VERSION:2.0
PRODID:-//Plone.org//NONSGML plone.app.event//EN
X-WR-TIMEZONE:Europe/Rome
BEGIN:VEVENT
SUMMARY:"Situazioni di servizio" al CineCare: una commedia brillante sui r
 uoli di genere
DTSTART;TZID=Europe/Rome;VALUE=DATE-TIME:20241213T161500
DTSTAMP;VALUE=DATE-TIME:20260420T050210Z
UID:27a0498e9456493d998dae49dc426246@127.0.0.1:8095
CREATED;VALUE=DATE-TIME:20241203T114537Z
DESCRIPTION:Venerdì 13 dicembre alle 16.15 - Aula Magna Ospedale Maggiore
LAST-MODIFIED;VALUE=DATE-TIME:20250313T141151Z
LOCATION:Aula Magna Ospedale Maggiore - Largo Bartolo Nigrisoli 2\, Bologn
 a
URL:https://www.ausl.bologna.it/eventi/archivio/situazioni-di-servizio-al-
 cinecare-una-commedia-brillante-sui-ruoli-di-genere
END:VEVENT
BEGIN:VTIMEZONE
TZID:Europe/Rome
X-LIC-LOCATION:Europe/Rome
BEGIN:STANDARD
DTSTART;VALUE=DATE-TIME:20241027T020000
TZNAME:CET
TZOFFSETFROM:+0200
TZOFFSETTO:+0100
END:STANDARD
END:VTIMEZONE
END:VCALENDAR
