BEGIN:VCALENDAR
VERSION:2.0
PRODID:-//Plone.org//NONSGML plone.app.event//EN
X-WR-TIMEZONE:Europe/Rome
BEGIN:VEVENT
SUMMARY:Servizi e Innovazione - il punto su adolescenti e giovani consumat
 ori di sostanze
DTSTART;TZID=Europe/Rome;VALUE=DATE-TIME:20221214T083000
DTEND;TZID=Europe/Rome;VALUE=DATE-TIME:20221214T140000
DTSTAMP;VALUE=DATE-TIME:20260420T093904Z
UID:cbc542253e264029ba97622ce3371a7f@127.0.0.1:8095
CONTACT:Francesco Tucci\, francesco.tucci@ausl.bologna.it
CREATED;VALUE=DATE-TIME:20221206T104752Z
DESCRIPTION:Dialogo\, formazione e confronto tra esperti\, mercoledì 14 d
 icembre dalle ore 9 alle ore 14 in Sala Cesari\, Avis\, Via dell'Ospedale 
 10
LAST-MODIFIED;VALUE=DATE-TIME:20230825T062426Z
LOCATION:Bologna - Sala Cesari\, Avis\, Via dell'Ospedale 10
URL:https://www.ausl.bologna.it/eventi/archivio/servizi-e-innovazione-il-p
 unto-su-adolescenti-e-giovani-consumatori-di-sostanze
END:VEVENT
BEGIN:VTIMEZONE
TZID:Europe/Rome
X-LIC-LOCATION:Europe/Rome
BEGIN:STANDARD
DTSTART;VALUE=DATE-TIME:20221030T020000
TZNAME:CET
TZOFFSETFROM:+0200
TZOFFSETTO:+0100
END:STANDARD
END:VTIMEZONE
END:VCALENDAR
