BEGIN:VCALENDAR
VERSION:2.0
PRODID:-//Plone.org//NONSGML plone.app.event//EN
X-WR-TIMEZONE:Europe/Rome
BEGIN:VEVENT
SUMMARY:Sclerosi multipla e lavoro. Incontri informativi
DTSTART;TZID=Europe/Rome;VALUE=DATE-TIME:20230620T183000
DTEND;TZID=Europe/Rome;VALUE=DATE-TIME:20230620T193000
DTSTAMP;VALUE=DATE-TIME:20260420T093824Z
UID:f2c20408233044be9f200a607b62ebea@127.0.0.1:8095
CATEGORIES:Istituto Scienze Neurologiche
CREATED;VALUE=DATE-TIME:20230519T091035Z
DESCRIPTION:Secondo incontro\, martedì 20 giugno\, alle ore 18.30. Con El
 isa Ferriani\, psicologa.
LAST-MODIFIED;VALUE=DATE-TIME:20230825T062641Z
LOCATION:online
URL:https://www.ausl.bologna.it/eventi/archivio/sclerosi-multipla-e-lavoro
 -incontri-informativi-1
END:VEVENT
BEGIN:VTIMEZONE
TZID:Europe/Rome
X-LIC-LOCATION:Europe/Rome
BEGIN:DAYLIGHT
DTSTART;VALUE=DATE-TIME:20230326T030000
TZNAME:CEST
TZOFFSETFROM:+0100
TZOFFSETTO:+0200
END:DAYLIGHT
END:VTIMEZONE
END:VCALENDAR
