BEGIN:VCALENDAR
VERSION:2.0
PRODID:-//Plone.org//NONSGML plone.app.event//EN
X-WR-TIMEZONE:Europe/Rome
BEGIN:VEVENT
SUMMARY:Salute\, questione di stile
DTSTART;TZID=Europe/Rome;VALUE=DATE-TIME:20240321T204500
DTEND;TZID=Europe/Rome;VALUE=DATE-TIME:20240321T230000
DTSTAMP;VALUE=DATE-TIME:20260420T073641Z
UID:c4fc689d99244c3aa611df143057fd97@127.0.0.1:8095
CATEGORIES:PRP
CREATED;VALUE=DATE-TIME:20240311T113221Z
DESCRIPTION:Un evento dedicato all'importanza della prevenzione e dei sani
  stili di vita
LAST-MODIFIED;VALUE=DATE-TIME:20241128T093551Z
LOCATION:Bologna\, Cinema Modernissimo\, piazza Re Enzo 1/1
URL:https://www.ausl.bologna.it/eventi/archivio/salute-questione-di-stile
END:VEVENT
BEGIN:VTIMEZONE
TZID:Europe/Rome
X-LIC-LOCATION:Europe/Rome
BEGIN:STANDARD
DTSTART;VALUE=DATE-TIME:20231029T020000
TZNAME:CET
TZOFFSETFROM:+0200
TZOFFSETTO:+0100
END:STANDARD
END:VTIMEZONE
END:VCALENDAR
