BEGIN:VCALENDAR
VERSION:2.0
PRODID:-//Plone.org//NONSGML plone.app.event//EN
X-WR-TIMEZONE:Europe/Rome
BEGIN:VEVENT
SUMMARY:Restoring Vision
DTSTART;TZID=Europe/Rome;VALUE=DATE-TIME:20230320T153000
DTEND;TZID=Europe/Rome;VALUE=DATE-TIME:20230320T163000
DTSTAMP;VALUE=DATE-TIME:20260420T091431Z
UID:c1104b26a53241e08ecc0a9a47dfbca4@127.0.0.1:8095
CATEGORIES:Istituto Scienze Neurologiche
CREATED;VALUE=DATE-TIME:20230216T135706Z
DESCRIPTION:Lectio magistralis di Botond Roska
LAST-MODIFIED;VALUE=DATE-TIME:20230825T062624Z
LOCATION:in presenza e online
URL:https://www.ausl.bologna.it/eventi/archivio/restoring-vision
END:VEVENT
BEGIN:VTIMEZONE
TZID:Europe/Rome
X-LIC-LOCATION:Europe/Rome
BEGIN:STANDARD
DTSTART;VALUE=DATE-TIME:20221030T020000
TZNAME:CET
TZOFFSETFROM:+0200
TZOFFSETTO:+0100
END:STANDARD
END:VTIMEZONE
END:VCALENDAR
