BEGIN:VCALENDAR
VERSION:2.0
PRODID:-//Plone.org//NONSGML plone.app.event//EN
X-WR-TIMEZONE:Europe/Rome
BEGIN:VEVENT
SUMMARY:Rare Disease Workshop: Challenges and barriers for gene therapies 
 in rare neurological disorders: preparing the next generation of clinician
 s and researchers\,
DTSTART;TZID=Europe/Rome;VALUE=DATE-TIME:20230629T130000
DTEND;TZID=Europe/Rome;VALUE=DATE-TIME:20230630T170000
DTSTAMP;VALUE=DATE-TIME:20260420T094002Z
UID:d27d4c17277342bba80776486609a744@127.0.0.1:8095
CATEGORIES:Istituto Scienze Neurologiche
CREATED;VALUE=DATE-TIME:20230508T115017Z
DESCRIPTION:ERN - Workshop
LAST-MODIFIED;VALUE=DATE-TIME:20230825T062638Z
LOCATION:Barcelona\, Spain
URL:https://www.ausl.bologna.it/eventi/archivio/rare-disease-workshop-chal
 lenges-and-barriers-for-gene-therapies-in-rare-neurological-disorders-prep
 aring-the-next-generation-of-clinicians-and-researchers
END:VEVENT
BEGIN:VTIMEZONE
TZID:Europe/Rome
X-LIC-LOCATION:Europe/Rome
BEGIN:DAYLIGHT
DTSTART;VALUE=DATE-TIME:20230326T030000
TZNAME:CEST
TZOFFSETFROM:+0100
TZOFFSETTO:+0200
END:DAYLIGHT
END:VTIMEZONE
END:VCALENDAR
