BEGIN:VCALENDAR
VERSION:2.0
PRODID:-//Plone.org//NONSGML plone.app.event//EN
X-WR-TIMEZONE:Europe/Rome
BEGIN:VEVENT
SUMMARY:Questione ambientale: coinvolgiamo gli operatori sanitari
DTSTART;TZID=Europe/Rome;VALUE=DATE-TIME:20230113T140000
DTEND;TZID=Europe/Rome;VALUE=DATE-TIME:20230113T180000
DTSTAMP;VALUE=DATE-TIME:20260420T093923Z
UID:3c13705c738a4886a61a865a11e2f011@127.0.0.1:8095
CONTACT:Luca Marzola\, luca.marzola@ausl.bologna.it
CREATED;VALUE=DATE-TIME:20221212T124336Z
DESCRIPTION:Evento accreditato ECM per Medici\, Ostetriche\, Infermieri\, 
 Assistenti sanitarie\, Psicologi
LAST-MODIFIED;VALUE=DATE-TIME:20230825T062426Z
LOCATION:Bologna\,  Aula Magna dell'Ospedale Maggiore
URL:https://www.ausl.bologna.it/eventi/archivio/questione-ambientale-coinv
 olgiamo-gli-operatori-sanitari-ed2
END:VEVENT
BEGIN:VTIMEZONE
TZID:Europe/Rome
X-LIC-LOCATION:Europe/Rome
BEGIN:STANDARD
DTSTART;VALUE=DATE-TIME:20221030T020000
TZNAME:CET
TZOFFSETFROM:+0200
TZOFFSETTO:+0100
END:STANDARD
END:VTIMEZONE
END:VCALENDAR
