BEGIN:VCALENDAR
VERSION:2.0
PRODID:-//Plone.org//NONSGML plone.app.event//EN
X-WR-TIMEZONE:Europe/Rome
BEGIN:VEVENT
SUMMARY:Question time sulla salute delle donne con sclerosi multipla. Mena
 rca\, età fertile\, menopausa
DTSTART;TZID=Europe/Rome;VALUE=DATE-TIME:20230418T183000
DTEND;TZID=Europe/Rome;VALUE=DATE-TIME:20230418T193000
DTSTAMP;VALUE=DATE-TIME:20260420T094003Z
UID:cc5a0ab2bd3a4d16bbda2cc5e0c65862@127.0.0.1:8095
ATTENDEE;CN="Alessandra Lugaresi, Centro Sclerosi Multipla, IRCCS Istituto
  delle Scienze Neurologiche; Marinella Lenzi, UO Ostetricia e Ginecologia,
  Azienda USL di Bologna";ROLE=REQ-PARTICIPANT:Alessandra Lugaresi, Centro 
 Sclerosi Multipla, IRCCS Istituto delle Scienze Neurologiche; Marinella Le
 nzi, UO Ostetricia e Ginecologia, Azienda USL di Bologna
CATEGORIES:Istituto Scienze Neurologiche
CONTACT:https://teams.microsoft.com/l/meetup-join/19%3ameeting_NjQ5ZTQ4ZjY
 tMmYyOS00MjM1LTg5NDMtM2Y4ZTA0OGNjNWM5%40thread.v2/0?context=%7b%22Tid%22%3
 a%2209185833-e33a-4d77-8541-9164ad358f14%22%2c%22Oid%22%3a%220d8e3a78-d3bc
 -4965-b93c-00d15e63d00a%22%7d
CREATED;VALUE=DATE-TIME:20230414T082421Z
DESCRIPTION:Webinar online organizzato in occasione dell'(H)Open week\, Se
 ttimana dedicata alla Salute della Donna\, promossa da Fondazione ONDA
LAST-MODIFIED;VALUE=DATE-TIME:20230825T062648Z
LOCATION:online
URL:https://www.ausl.bologna.it/eventi/archivio/question-time-sulla-salute
 -delle-donne-con-sclerosi-multipla-menarca-eta-fertile-menopausa
END:VEVENT
BEGIN:VTIMEZONE
TZID:Europe/Rome
X-LIC-LOCATION:Europe/Rome
BEGIN:DAYLIGHT
DTSTART;VALUE=DATE-TIME:20230326T030000
TZNAME:CEST
TZOFFSETFROM:+0100
TZOFFSETTO:+0200
END:DAYLIGHT
END:VTIMEZONE
END:VCALENDAR
