BEGIN:VCALENDAR
VERSION:2.0
PRODID:-//Plone.org//NONSGML plone.app.event//EN
X-WR-TIMEZONE:Europe/Rome
BEGIN:VEVENT
SUMMARY:Quattro chiacchere e una mimosa
DTSTART;TZID=Europe/Rome;VALUE=DATE-TIME:20230309T193000
DTSTAMP;VALUE=DATE-TIME:20260420T092047Z
UID:0a2c30e1255e402daba1bfe09a0f62db@127.0.0.1:8095
CREATED;VALUE=DATE-TIME:20230228T113250Z
DESCRIPTION:Spettacolo per la Festa della Donna promosso e organizzato dal
  Circolo aziendale Ravone
LAST-MODIFIED;VALUE=DATE-TIME:20230825T062626Z
LOCATION:Bologna\, Aula Magna dell'Ospedale Maggiore
URL:https://www.ausl.bologna.it/eventi/archivio/quattro-chiacchere-e-una-m
 imosa
END:VEVENT
BEGIN:VTIMEZONE
TZID:Europe/Rome
X-LIC-LOCATION:Europe/Rome
BEGIN:STANDARD
DTSTART;VALUE=DATE-TIME:20221030T020000
TZNAME:CET
TZOFFSETFROM:+0200
TZOFFSETTO:+0100
END:STANDARD
END:VTIMEZONE
END:VCALENDAR
