BEGIN:VCALENDAR
VERSION:2.0
PRODID:-//Plone.org//NONSGML plone.app.event//EN
X-WR-TIMEZONE:Europe/Rome
BEGIN:VEVENT
SUMMARY:Allattiamo insieme! A San Giovanni in Persiceto
DTSTART;TZID=Europe/Rome;VALUE=DATE-TIME:20241003T100000
DTEND;TZID=Europe/Rome;VALUE=DATE-TIME:20241003T120000
DTSTAMP;VALUE=DATE-TIME:20260420T062954Z
UID:24c23d65f8a744a2a2edc5d99dff29c0@127.0.0.1:8095
CONTACT:https://www.ausl.bologna.it/news/current/settimana-mondiale-dell20
 19allattamento-201cstop-alle-disuguaglianze-2013-sostegno-a-360deg
CREATED;VALUE=DATE-TIME:20240927T111817Z
DESCRIPTION:Indossa una maglietta bianca e partecipa anche tu
LAST-MODIFIED;VALUE=DATE-TIME:20241128T093715Z
LOCATION:San Giovanni in Persiceto\, Casa Isora Via Matteotti 2
URL:https://www.ausl.bologna.it/eventi/archivio/poallattiamo-insieme
END:VEVENT
BEGIN:VTIMEZONE
TZID:Europe/Rome
X-LIC-LOCATION:Europe/Rome
BEGIN:DAYLIGHT
DTSTART;VALUE=DATE-TIME:20240331T030000
TZNAME:CEST
TZOFFSETFROM:+0100
TZOFFSETTO:+0200
END:DAYLIGHT
END:VTIMEZONE
END:VCALENDAR
