BEGIN:VCALENDAR
VERSION:2.0
PRODID:-//Plone.org//NONSGML plone.app.event//EN
X-WR-TIMEZONE:Europe/Rome
BEGIN:VEVENT
SUMMARY:"Pillole di latte" e "Suggestioni pedagogiche"
DTSTART;TZID=Europe/Rome;VALUE=DATE-TIME:20231005T093000
DTEND;TZID=Europe/Rome;VALUE=DATE-TIME:20231005T110000
DTSTAMP;VALUE=DATE-TIME:20260420T074850Z
UID:cd62bfbf5552430ca8c657ffc30e89cb@127.0.0.1:8095
CREATED;VALUE=DATE-TIME:20230920T095158Z
DESCRIPTION:Giovedì 5 ottobre dalle 9:30 alle 11:00 presso Ludolab in via
  Padre Marella 15 a Pianoro
LAST-MODIFIED;VALUE=DATE-TIME:20231116T081217Z
LOCATION:Ludolab - via Padre Marella 15\, Pianoro
URL:https://www.ausl.bologna.it/eventi/archivio/pillole-di-latte-e-suggest
 ioni-pedagogiche
END:VEVENT
BEGIN:VTIMEZONE
TZID:Europe/Rome
X-LIC-LOCATION:Europe/Rome
BEGIN:DAYLIGHT
DTSTART;VALUE=DATE-TIME:20230326T030000
TZNAME:CEST
TZOFFSETFROM:+0100
TZOFFSETTO:+0200
END:DAYLIGHT
END:VTIMEZONE
END:VCALENDAR
