BEGIN:VCALENDAR
VERSION:2.0
PRODID:-//Plone.org//NONSGML plone.app.event//EN
X-WR-TIMEZONE:Europe/Rome
BEGIN:VEVENT
SUMMARY:Piano Mirato di Prevenzione del rischio stradale
DTSTART;TZID=Europe/Rome;VALUE=DATE-TIME:20241108T093000
DTSTAMP;VALUE=DATE-TIME:20260420T045928Z
UID:09ad92119e7c44058d9b9f170a798ee7@127.0.0.1:8095
CATEGORIES:PRP
CREATED;VALUE=DATE-TIME:20231123T091153Z
DESCRIPTION:Presentazione del Piano Mirato di Prevenzione in tema di risch
 io stradale in settori professionali e non del trasporto
LAST-MODIFIED;VALUE=DATE-TIME:20241128T093719Z
LOCATION:Presso la Sala Rossa della sede dell'Azienda USL in via Gramsci 1
 2\, Bologna.
URL:https://www.ausl.bologna.it/eventi/archivio/piano-mirato-di-prevenzion
 e-del-rischio-stradale-nov-2024
END:VEVENT
BEGIN:VTIMEZONE
TZID:Europe/Rome
X-LIC-LOCATION:Europe/Rome
BEGIN:STANDARD
DTSTART;VALUE=DATE-TIME:20241027T020000
TZNAME:CET
TZOFFSETFROM:+0200
TZOFFSETTO:+0100
END:STANDARD
END:VTIMEZONE
END:VCALENDAR
