BEGIN:VCALENDAR
VERSION:2.0
PRODID:-//Plone.org//NONSGML plone.app.event//EN
X-WR-TIMEZONE:Europe/Rome
BEGIN:VEVENT
SUMMARY:Nutriamo il movimento. A Casalecchio di Reno
DTSTART;TZID=Europe/Rome;VALUE=DATE-TIME:20241018T150000
DTEND;TZID=Europe/Rome;VALUE=DATE-TIME:20241018T163000
DTSTAMP;VALUE=DATE-TIME:20260420T062718Z
UID:e4526246161240ba9206271818840be0@127.0.0.1:8095
CREATED;VALUE=DATE-TIME:20240927T120650Z
DESCRIPTION:Nell'ambito di "Incontri per la salute. una comunità che cres
 ce"
LAST-MODIFIED;VALUE=DATE-TIME:20241128T093717Z
LOCATION:Casalecchio di Reno\, Casa della Comunità "Aula Corazza"
URL:https://www.ausl.bologna.it/eventi/archivio/nutriamo-il-movimento
END:VEVENT
BEGIN:VTIMEZONE
TZID:Europe/Rome
X-LIC-LOCATION:Europe/Rome
BEGIN:DAYLIGHT
DTSTART;VALUE=DATE-TIME:20240331T030000
TZNAME:CEST
TZOFFSETFROM:+0100
TZOFFSETTO:+0200
END:DAYLIGHT
END:VTIMEZONE
END:VCALENDAR
